BEGIN:VCALENDAR
VERSION:2.0
PRODID:-//The Marquee at 618 - ECPv6.15.12.2//NONSGML v1.0//EN
CALSCALE:GREGORIAN
METHOD:PUBLISH
X-WR-CALNAME:The Marquee at 618
X-ORIGINAL-URL:https://marquee618.com
X-WR-CALDESC:Events for The Marquee at 618
REFRESH-INTERVAL;VALUE=DURATION:PT1H
X-Robots-Tag:noindex
X-PUBLISHED-TTL:PT1H
BEGIN:VTIMEZONE
TZID:America/Chicago
BEGIN:DAYLIGHT
TZOFFSETFROM:-0600
TZOFFSETTO:-0500
TZNAME:CDT
DTSTART:20250309T080000
END:DAYLIGHT
BEGIN:STANDARD
TZOFFSETFROM:-0500
TZOFFSETTO:-0600
TZNAME:CST
DTSTART:20251102T070000
END:STANDARD
BEGIN:DAYLIGHT
TZOFFSETFROM:-0600
TZOFFSETTO:-0500
TZNAME:CDT
DTSTART:20260308T080000
END:DAYLIGHT
BEGIN:STANDARD
TZOFFSETFROM:-0500
TZOFFSETTO:-0600
TZNAME:CST
DTSTART:20261101T070000
END:STANDARD
BEGIN:DAYLIGHT
TZOFFSETFROM:-0600
TZOFFSETTO:-0500
TZNAME:CDT
DTSTART:20270314T080000
END:DAYLIGHT
BEGIN:STANDARD
TZOFFSETFROM:-0500
TZOFFSETTO:-0600
TZNAME:CST
DTSTART:20271107T070000
END:STANDARD
END:VTIMEZONE
BEGIN:VEVENT
DTSTART;TZID=America/Chicago:20260424T073000
DTEND;TZID=America/Chicago:20260424T090000
DTSTAMP:20260422T045039
CREATED:20260422T000736Z
LAST-MODIFIED:20260422T000833Z
UID:10000900-1777015800-1777021200@marquee618.com
SUMMARY:MCDP Catchy Friday Breakfast
DESCRIPTION:
URL:https://marquee618.com/event/mcdp-catchy-friday-breakfast/
LOCATION:Marquee at 618\, 618 Main Street\, Columbia\, MS\, 39429\, United States
CATEGORIES:Business to Business
END:VEVENT
BEGIN:VEVENT
DTSTART;TZID=America/Chicago:20260509T100000
DTEND;TZID=America/Chicago:20260509T160000
DTSTAMP:20260422T045039
CREATED:20260422T000934Z
LAST-MODIFIED:20260422T001018Z
UID:10000901-1778320800-1778342400@marquee618.com
SUMMARY:Marquee Market
DESCRIPTION:Join us for a fun\, community-filled day at the Marquee Market\, a vendor market inside The Marquee at 618!\n\nBrowse a variety of local vendors featuring handmade goods\, boutique clothing\, home décor\, baked treats\, specialty items\, and more. Whether you’re shopping for something unique\, grabbing a gift\, or just looking for a great way to spend your day\, there’s something for everyone.\n\nBring your friends\, bring your family\, and come support small businesses while enjoying the lively atmosphere of The Marquee.\n\n Local Vendors Unique Finds Snacks & Treats Great Atmosphere\n\nInterested in becoming a vendor?\nSpots are limited—reach out today to reserve your space!
URL:https://marquee618.com/event/marquee-market/
LOCATION:Marquee at 618\, 618 Main Street\, Columbia\, MS\, 39429\, United States
CATEGORIES:Marquee Market
ATTACH;FMTTYPE=image/jpeg:https://marquee618.com/wp-content/uploads/2025/03/0aed3671-9003-4664-91c7-a3e5683762b1.jpg
END:VEVENT
BEGIN:VEVENT
DTSTART;TZID=America/Chicago:20260509T190000
DTEND;TZID=America/Chicago:20260509T210000
DTSTAMP:20260422T045039
CREATED:20260422T000633Z
LAST-MODIFIED:20260422T000633Z
UID:10000899-1778353200-1778360400@marquee618.com
SUMMARY:A Night of Intrigue - Murder Mystery Dinner
DESCRIPTION:Step into a world of suspense\, secrets\, and scandal at The Marquee at 618 with The Detectives at The Marquee! Join us for an unforgettable Murder Mystery Dinner\, where guests become part of the action in a thrilling\, interactive whodunit. \nEnjoy a delectable multi-course meal as you work to unravel the clues\, interrogate suspects\, and uncover the truth behind a chilling crime. Will you solve the mystery before dessert\, or will the culprit remain at large? \nDress in your best sleuthing attire and prepare for a night filled with twists\, turns\, and unexpected revelations. Seats are limited\, so reserve your spot now—before it’s too late! \nTickets available here: A Night of Intrigue: Murder Mystery Dinner Tickets\, Saturday\, May 9-Wednesday\, May 13  •  7 PM-9:30 PM | Eventbrite
URL:https://marquee618.com/event/a-night-of-intrigue-murder-mystery-dinner/
LOCATION:Marquee at 618\, 618 Main Street\, Columbia\, MS\, 39429\, United States
CATEGORIES:Comedy,Dinner,Dinner Theater
ATTACH;FMTTYPE=image/png:https://marquee618.com/wp-content/uploads/2025/03/MURDERMARQUEEHEADER-01.png
END:VEVENT
BEGIN:VEVENT
DTSTART;TZID=America/Chicago:20260523T190000
DTEND;TZID=America/Chicago:20260523T220000
DTSTAMP:20260422T045039
CREATED:20260422T020909Z
LAST-MODIFIED:20260422T021537Z
UID:10000902-1779562800-1779573600@marquee618.com
SUMMARY:Comedy Night with Jody Fuller
DESCRIPTION:Join us on Saturday\, May 23rd at 7:00 PM for a special Dinner & Comedy Night featuring Jody Fuller—a nationally touring clean comedian\, TEDx speaker\, and motivational leader who brings a powerful mix of humor\, heart\, and real-life experience to the stage. \n🍽️ Your evening includes:• A delicious dinner to kick things off• A full comedy performance packed with clean\, high-energy humor• A message that’s equal parts laughter and inspiration \nJody Fuller isn’t your typical comedian. A former U.S. Army Major with a 24-year military career\, he’s led soldiers in combat\, overcome personal challenges like a lifelong stutter\, and built a national reputation for turning adversity into strength. Today\, he travels the country delivering a unique blend of comedy\, leadership insight\, and resilience that connects with audiences of all backgrounds. \nYou may come for the laughs—but you’ll leave with something more: motivation\, perspective\, and a renewed sense of purpose. As Jody says\, “If they’re laughing\, they’re listening.” \nRecognized as one of Alabama’s Top 40 over 40 and featured among rising veteran comedians nationwide\, Jody has performed in over 45 states and 15 countries—bringing his signature style of storytelling and inspiration to stages across America. \nEvent Details:📍 The Marquee at 618📅 Saturday\, May 23⏰ Dinner & Show begin at 7:00 PM \nSeats are limited for this one-of-a-kind experience. Grab your tickets now and join us for a night of food\, fun\, and unforgettable comedy with a message that sticks.
URL:https://marquee618.com/event/comedy-night-with-comedian-jody-fuller/
LOCATION:Marquee at 618\, 618 Main Street\, Columbia\, MS\, 39429\, United States
ATTACH;FMTTYPE=image/jpeg:https://marquee618.com/wp-content/uploads/2026/04/1551779_799046346787864_712880177_n.jpg
END:VEVENT
END:VCALENDAR