BEGIN:VCALENDAR
VERSION:2.0
PRODID:-//The Marquee at 618 - ECPv6.15.12.2//NONSGML v1.0//EN
CALSCALE:GREGORIAN
METHOD:PUBLISH
X-WR-CALNAME:The Marquee at 618
X-ORIGINAL-URL:https://marquee618.com
X-WR-CALDESC:Events for The Marquee at 618
REFRESH-INTERVAL;VALUE=DURATION:PT1H
X-Robots-Tag:noindex
X-PUBLISHED-TTL:PT1H
BEGIN:VTIMEZONE
TZID:America/Chicago
BEGIN:DAYLIGHT
TZOFFSETFROM:-0600
TZOFFSETTO:-0500
TZNAME:CDT
DTSTART:20250309T080000
END:DAYLIGHT
BEGIN:STANDARD
TZOFFSETFROM:-0500
TZOFFSETTO:-0600
TZNAME:CST
DTSTART:20251102T070000
END:STANDARD
BEGIN:DAYLIGHT
TZOFFSETFROM:-0600
TZOFFSETTO:-0500
TZNAME:CDT
DTSTART:20260308T080000
END:DAYLIGHT
BEGIN:STANDARD
TZOFFSETFROM:-0500
TZOFFSETTO:-0600
TZNAME:CST
DTSTART:20261101T070000
END:STANDARD
BEGIN:DAYLIGHT
TZOFFSETFROM:-0600
TZOFFSETTO:-0500
TZNAME:CDT
DTSTART:20270314T080000
END:DAYLIGHT
BEGIN:STANDARD
TZOFFSETFROM:-0500
TZOFFSETTO:-0600
TZNAME:CST
DTSTART:20271107T070000
END:STANDARD
END:VTIMEZONE
BEGIN:VEVENT
DTSTART;TZID=America/Chicago:20260509T100000
DTEND;TZID=America/Chicago:20260509T160000
DTSTAMP:20260422T060907
CREATED:20260422T000934Z
LAST-MODIFIED:20260422T001018Z
UID:10000901-1778320800-1778342400@marquee618.com
SUMMARY:Marquee Market
DESCRIPTION:Join us for a fun\, community-filled day at the Marquee Market\, a vendor market inside The Marquee at 618!\n\nBrowse a variety of local vendors featuring handmade goods\, boutique clothing\, home décor\, baked treats\, specialty items\, and more. Whether you’re shopping for something unique\, grabbing a gift\, or just looking for a great way to spend your day\, there’s something for everyone.\n\nBring your friends\, bring your family\, and come support small businesses while enjoying the lively atmosphere of The Marquee.\n\n Local Vendors Unique Finds Snacks & Treats Great Atmosphere\n\nInterested in becoming a vendor?\nSpots are limited—reach out today to reserve your space!
URL:https://marquee618.com/event/marquee-market/
LOCATION:Marquee at 618\, 618 Main Street\, Columbia\, MS\, 39429\, United States
CATEGORIES:Marquee Market
ATTACH;FMTTYPE=image/jpeg:https://marquee618.com/wp-content/uploads/2025/03/0aed3671-9003-4664-91c7-a3e5683762b1.jpg
END:VEVENT
END:VCALENDAR